BEGIN:VCALENDAR
VERSION:2.0
PRODID:-//destination.one//NONSGML destination.meta API//DE
X-WR-CALDESC:A calendar powered by destination.meta
X-WR-CALNAME:huemmling Kalender via destination.meta
BEGIN:VEVENT
CATEGORIES:Familie\, Kinder und Jugendliche
DESCRIPTION:Spannung\, Gänsehaut und Jubelschreie\, das ist Fußball gucken 
 auf der Meppener Schülerwiese!\n\nmehr Informationen unter http://pages.de
 stination.one/de/huemmling/streaming/detail/Event/e_101259400/public-viewi
 ng-deutschland-elfenbeink-ste
DTEND;TZID=Europe/Berlin:20260620T235900
DTSTAMP:20260423T052730Z
DTSTART;TZID=Europe/Berlin:20260620T220000
GEO:52.691288;7.294933
LOCATION:Schülerwiese Meppen\, Schülerwiese\, Meppen
ORGANIZER;CN=WiM Wir in Meppen Stadtmarketing e.V.:mailto:wim@meppen.de
SEQUENCE:0
SUMMARY:Public Viewing: Deutschland - Elfenbeinküste
UID:e_101259400_iv0
URL:http://pages.destination.one/de/huemmling/streaming/detail/Event/e_1012
 59400/public-viewing-deutschland-elfenbeink-ste
END:VEVENT
BEGIN:VTIMEZONE
TZID:Europe/Berlin
X-LIC-LOCATION:Europe/Berlin
BEGIN:DAYLIGHT
DTSTART:19700329T020000
RRULE:FREQ=YEARLY;BYDAY=-1SU;BYMONTH=3
TZNAME:CEST
TZOFFSETFROM:+0100
TZOFFSETTO:+0200
END:DAYLIGHT
BEGIN:STANDARD
DTSTART:19701025T030000
RRULE:FREQ=YEARLY;BYDAY=-1SU;BYMONTH=10
TZNAME:CET
TZOFFSETFROM:+0200
TZOFFSETTO:+0100
END:STANDARD
END:VTIMEZONE
END:VCALENDAR
